BEGIN:VCALENDAR
VERSION:2.0
PRODID:-//JTRI - ECPv6.15.17.1//NONSGML v1.0//EN
CALSCALE:GREGORIAN
METHOD:PUBLISH
X-WR-CALNAME:JTRI
X-ORIGINAL-URL:https://jtri.ch
X-WR-CALDESC:Veranstaltungen für JTRI
REFRESH-INTERVAL;VALUE=DURATION:PT1H
X-Robots-Tag:noindex
X-PUBLISHED-TTL:PT1H
BEGIN:VTIMEZONE
TZID:Europe/Zurich
BEGIN:DAYLIGHT
TZOFFSETFROM:+0100
TZOFFSETTO:+0200
TZNAME:CEST
DTSTART:20250330T010000
END:DAYLIGHT
BEGIN:STANDARD
TZOFFSETFROM:+0200
TZOFFSETTO:+0100
TZNAME:CET
DTSTART:20251026T010000
END:STANDARD
BEGIN:DAYLIGHT
TZOFFSETFROM:+0100
TZOFFSETTO:+0200
TZNAME:CEST
DTSTART:20260329T010000
END:DAYLIGHT
BEGIN:STANDARD
TZOFFSETFROM:+0200
TZOFFSETTO:+0100
TZNAME:CET
DTSTART:20261025T010000
END:STANDARD
BEGIN:DAYLIGHT
TZOFFSETFROM:+0100
TZOFFSETTO:+0200
TZNAME:CEST
DTSTART:20270328T010000
END:DAYLIGHT
BEGIN:STANDARD
TZOFFSETFROM:+0200
TZOFFSETTO:+0100
TZNAME:CET
DTSTART:20271031T010000
END:STANDARD
END:VTIMEZONE
BEGIN:VEVENT
DTSTART;TZID=Europe/Zurich:20260510T080000
DTEND;TZID=Europe/Zurich:20260510T130000
DTSTAMP:20260424T144710
CREATED:20260308T191620Z
LAST-MODIFIED:20260308T191620Z
UID:5953-1778400000-1778418000@jtri.ch
SUMMARY:Streckenbesichtigung IM Rappi
DESCRIPTION:ANMELDUNG\nLink zur Ausschreibung auf der Ironman-Homepage (und Anmeldung für TeilnehmerInnen:\nhttps://www.ironman.com/races/im703-switzerland/training\nHier die Eckpunkte:\n– Damit wir erkennbar sind: Nach Möglichkeit JTri-Bekleidung tragen.\n– Rad fahren: 3-4 Gruppen\, Besammlung Leitende: 8.30 Uhr\, Besammlung Teilnehmende 8.45\, Abfahrt 9.00\, mit Motocrew\, ab Parkplatz Eisstadion Rapperswil-Jona\n– Wichtig: Verkehrsregeln (Ampeln!) beachten! Die Motocrew unterstützt uns und blockt den Verkehr\, wenn es möglich ist\, aber die Strassen sind nicht gesperrt und ihr müsst jederzeit mit Verkehr rechnen.\n– Laufen: Ab ca. 11.00 Uhr\, im Anschluss ans Radfahren\, verschiedene Stärkegruppen.\n– Unterwegs: den Teilnehmern die Strecke erklären\, Hinweise auf Verpflegung\, gefährliche Stellen…\n– weitere Infos folgen\n– Fragen an wolfgang.braune@gseh.ch / +41 76 371 12 33\nhttps://www.ironman.com/im703-switzerland-course
URL:https://jtri.ch/event/streckenbesichtigung-im-rappi/
ATTACH;FMTTYPE=image/jpeg:https://jtri.ch/wp-content/uploads/2022/03/IMG-20210612-WA0014.jpg
END:VEVENT
BEGIN:VEVENT
DTSTART;TZID=Europe/Zurich:20260523T100000
DTEND;TZID=Europe/Zurich:20260523T150000
DTSTAMP:20260424T144710
CREATED:20260309T185743Z
LAST-MODIFIED:20260309T185743Z
UID:5961-1779530400-1779548400@jtri.ch
SUMMARY:JTRI Radausfahrt
DESCRIPTION:Guide: Luca \nInfos und Anmeldung folgen
URL:https://jtri.ch/event/jtri-radausfahrt-3/
ATTACH;FMTTYPE=image/jpeg:https://jtri.ch/wp-content/uploads/2024/03/Veranstaltung_JTRI_Logo.jpg
END:VEVENT
BEGIN:VEVENT
DTSTART;TZID=Europe/Zurich:20260524T080000
DTEND;TZID=Europe/Zurich:20260524T130000
DTSTAMP:20260424T144710
CREATED:20260309T190257Z
LAST-MODIFIED:20260309T190257Z
UID:5963-1779609600-1779627600@jtri.ch
SUMMARY:Aquathlon by wasser-ratte.ch
DESCRIPTION:Alle Infos findest du hier: Aquathlon – wasser-ratte.ch
URL:https://jtri.ch/event/aquathlon-by-wasser-ratte-ch/
ATTACH;FMTTYPE=image/png:https://jtri.ch/wp-content/uploads/2025/05/aquahtlon_2025_2.png
END:VEVENT
BEGIN:VEVENT
DTSTART;VALUE=DATE:20260529
DTEND;VALUE=DATE:20260601
DTSTAMP:20260424T144710
CREATED:20251116T185644Z
LAST-MODIFIED:20251117T183907Z
UID:5895-1780012800-1780271999@jtri.ch
SUMMARY:Pässetour
DESCRIPTION:Route:\nLugano – Bergamo – Morbegno – Chur\nTotal: 300 bis 400 km und 5’000 bis 8’000 hm\, je nach Fitnessstand.\n\nAnmeldung: https://nuudel.digitalcourage.de/XHDHD7oVidIh849A
URL:https://jtri.ch/event/paessetour/
ATTACH;FMTTYPE=image/jpeg:https://jtri.ch/wp-content/uploads/2025/11/sanmarco.jpg
END:VEVENT
BEGIN:VEVENT
DTSTART;TZID=Europe/Zurich:20260607T080000
DTEND;TZID=Europe/Zurich:20260607T170000
DTSTAMP:20260424T144710
CREATED:20260309T190710Z
LAST-MODIFIED:20260309T191148Z
UID:5967-1780819200-1780851600@jtri.ch
SUMMARY:Helfereinsatz: Ironman 70.3 Rapperswil
DESCRIPTION:Infos folgen
URL:https://jtri.ch/event/helfereinsatz-ironman-70-3-rapperswil-2/
ATTACH;FMTTYPE=image/jpeg:https://jtri.ch/wp-content/uploads/2025/06/JTRI_Verpflegung5.jpg
END:VEVENT
BEGIN:VEVENT
DTSTART;TZID=Europe/Zurich:20260621T080000
DTEND;TZID=Europe/Zurich:20260621T170000
DTSTAMP:20260424T144710
CREATED:20260309T190533Z
LAST-MODIFIED:20260309T190533Z
UID:5965-1782028800-1782061200@jtri.ch
SUMMARY:Linthathlon 2026
DESCRIPTION:Teilnahme: Tempo-Sport Linthathlon \nHelfen: Helfer*innen
URL:https://jtri.ch/event/linthathlon-2026/
ATTACH;FMTTYPE=image/jpeg:https://jtri.ch/wp-content/uploads/2024/08/Linthathlon_2024-_2000px_029-_mitchproductions.ch_.jpg
END:VEVENT
BEGIN:VEVENT
DTSTART;VALUE=DATE:20260719
DTEND;VALUE=DATE:20260726
DTSTAMP:20260424T144711
CREATED:20260306T141646Z
LAST-MODIFIED:20260306T142038Z
UID:5944-1784419200-1785023999@jtri.ch
SUMMARY:Sommer Tri Camp Tenero
DESCRIPTION:Das Triathlon Camp richtet sich an Jugendliche zwischen 12 und 18 Jahren. \nAufgrund von Niveau-gerechten Trainings und Theorielektionen können Athleten aller Leistungsniveaus teilnehmen. Es ist jedoch wünschenswert\, dass die Athleten bereits sicher mit einem Rennrad fahren können. Das Camp findet im Centro Sportivo in Tenero\, Tessin statt. Unser Ziel und zugleich das Motto: Wir möchten den Nachwuchsathletinnen und -athleten das Rüstzeug für den kompletten Triathleten mitgeben. Das Wichtigste dabei ist\, dass der Spass nie vergessen geht! \nDatum:\n19.07.-25.07.2026\nOrt:\nTenero\, Centro Sportivo\nLeitung:\nJosua Bürki\, Fabienne Grieder\, Giacumin Cattelan\, Anna & Lea Inderbitzin\, Andi Hollenstein\, Nathalie Zwicky und Lukas Hänel\nKosten:\nCHF 580.- (exkl. MwSt\, Geschwisterrabatt CHF 40.- pro Geschwisterpaar)\, exkl. An- und Rückreise\nRennvelopflicht (und Erfahrung beim Rennvelo fahren) \nWir vom Leiterteam freuen uns auf Deine Teilnahme! \nAnmeldung hier\,\nAnmeldeschluss: 30.04.2026  \n 
URL:https://jtri.ch/event/sommer-tri-camp-tenero/
LOCATION:Centro Sportivo Tenero\, via Brere\, Tenero\, 6598\, Switzerland
ATTACH;FMTTYPE=image/jpeg:https://jtri.ch/wp-content/uploads/2026/03/ChallengerTenero_2025.jpg
END:VEVENT
BEGIN:VEVENT
DTSTART;TZID=Europe/Zurich:20260822T080000
DTEND;TZID=Europe/Zurich:20260822T120000
DTSTAMP:20260424T144711
CREATED:20260309T191410Z
LAST-MODIFIED:20260309T191410Z
UID:5969-1787385600-1787400000@jtri.ch
SUMMARY:JTRI CM 2026 (Schwyzer Triathlon)
DESCRIPTION:ANMELDUNG
URL:https://jtri.ch/event/jtri-cm-2026-schwyzer-triathlon/
ATTACH;FMTTYPE=image/jpeg:https://jtri.ch/wp-content/uploads/2025/08/WhatsApp-Image-2025-08-16-at-15.26.11.jpeg
END:VEVENT
BEGIN:VEVENT
DTSTART;TZID=Europe/Zurich:20260822T170000
DTEND;TZID=Europe/Zurich:20260822T230000
DTSTAMP:20260424T144711
CREATED:20260309T191550Z
LAST-MODIFIED:20260309T191550Z
UID:5971-1787418000-1787439600@jtri.ch
SUMMARY:JTRI Grillfest 2026
DESCRIPTION:Infos folgen
URL:https://jtri.ch/event/jtri-grillfest-2026/
ATTACH;FMTTYPE=image/jpeg:https://jtri.ch/wp-content/uploads/2024/08/20240824_193204-scaled.jpg
END:VEVENT
BEGIN:VEVENT
DTSTART;TZID=Europe/Zurich:20260902T180000
DTEND;TZID=Europe/Zurich:20260902T220000
DTSTAMP:20260424T144711
CREATED:20260309T191734Z
LAST-MODIFIED:20260309T191734Z
UID:5973-1788372000-1788386400@jtri.ch
SUMMARY:Etzel Challenge
DESCRIPTION:Anmeldung
URL:https://jtri.ch/event/etzel-challenge-2/
ATTACH;FMTTYPE=image/png:https://jtri.ch/wp-content/uploads/2021/07/etzelchallenge.png
END:VEVENT
BEGIN:VEVENT
DTSTART;TZID=Europe/Zurich:20260906T120000
DTEND;TZID=Europe/Zurich:20260906T230000
DTSTAMP:20260424T144711
CREATED:20260309T191854Z
LAST-MODIFIED:20260317T192659Z
UID:5975-1788696000-1788735600@jtri.ch
SUMMARY:JTRI Jubiläum: 20 Jahre
DESCRIPTION:Save the date! Infos folgen
URL:https://jtri.ch/event/jtri-jubilaeum-20-jahre/
ATTACH;FMTTYPE=image/png:https://jtri.ch/wp-content/uploads/2026/03/ChatGPT-Image-Jubilaeum.png
END:VEVENT
END:VCALENDAR